BEGIN:VCALENDAR
VERSION:2.0
PRODID:-//STAIR - ECPv6.15.17.1//NONSGML v1.0//EN
CALSCALE:GREGORIAN
METHOD:PUBLISH
X-WR-CALNAME:STAIR
X-ORIGINAL-URL:https://stair.ch
X-WR-CALDESC:Veranstaltungen für STAIR
REFRESH-INTERVAL;VALUE=DURATION:PT1H
X-Robots-Tag:noindex
X-PUBLISHED-TTL:PT1H
BEGIN:VTIMEZONE
TZID:Europe/Berlin
BEGIN:DAYLIGHT
TZOFFSETFROM:+0100
TZOFFSETTO:+0200
TZNAME:CEST
DTSTART:20200329T010000
END:DAYLIGHT
BEGIN:STANDARD
TZOFFSETFROM:+0200
TZOFFSETTO:+0100
TZNAME:CET
DTSTART:20201025T010000
END:STANDARD
BEGIN:DAYLIGHT
TZOFFSETFROM:+0100
TZOFFSETTO:+0200
TZNAME:CEST
DTSTART:20210328T010000
END:DAYLIGHT
BEGIN:STANDARD
TZOFFSETFROM:+0200
TZOFFSETTO:+0100
TZNAME:CET
DTSTART:20211031T010000
END:STANDARD
BEGIN:DAYLIGHT
TZOFFSETFROM:+0100
TZOFFSETTO:+0200
TZNAME:CEST
DTSTART:20220327T010000
END:DAYLIGHT
BEGIN:STANDARD
TZOFFSETFROM:+0200
TZOFFSETTO:+0100
TZNAME:CET
DTSTART:20221030T010000
END:STANDARD
END:VTIMEZONE
BEGIN:VEVENT
DTSTART;TZID=Europe/Berlin:20210901T151500
DTEND;TZID=Europe/Berlin:20210901T180000
DTSTAMP:20260423T131347
CREATED:20210811T185634Z
LAST-MODIFIED:20210831T172124Z
UID:7902-1630509300-1630519200@stair.ch
SUMMARY:Paintball Event FS2021
DESCRIPTION:Kurzentschlossene können sich bis 1. September 12:00 Uhr via Instagram DM oder auf info@stair.ch anmelden \n\n\n\n\n \nGeniesst du die Semesterferien? Damit die Sommerpause nicht zu beschaulich wird\, sorgen wir mit einem Paintball-Event für etwas Action. \n\nDatum\, Uhrzeit: 1. September\, 15:15 Uhr bis 18:00 Uhr\nOrt: Paintball Arena Luzern in Emmen\nKosten: 59 Fr. inkl. volle Ausrüstung\, jedoch übernimmt STAIR 9 Fr.\n\nDie Teilnehmeranzahl ist begrenzt\, hier kannst du dich bis am 22. August anmelden.
URL:https://stair.ch/event/7902/
LOCATION:Paintball Arena Luzern\, Rüeggisingerstrasse 152\, Emmen\, Luzern\, 6032\, Schweiz
ORGANIZER;CN="STAIR":MAILTO:info@stair.ch
END:VEVENT
END:VCALENDAR