BEGIN:VCALENDAR
VERSION:2.0
PRODID:-//STAIR - ECPv6.15.17.1//NONSGML v1.0//EN
CALSCALE:GREGORIAN
METHOD:PUBLISH
X-WR-CALNAME:STAIR
X-ORIGINAL-URL:https://stair.ch
X-WR-CALDESC:Veranstaltungen für STAIR
REFRESH-INTERVAL;VALUE=DURATION:PT1H
X-Robots-Tag:noindex
X-PUBLISHED-TTL:PT1H
BEGIN:VTIMEZONE
TZID:Europe/Berlin
BEGIN:DAYLIGHT
TZOFFSETFROM:+0100
TZOFFSETTO:+0200
TZNAME:CEST
DTSTART:20200329T010000
END:DAYLIGHT
BEGIN:STANDARD
TZOFFSETFROM:+0200
TZOFFSETTO:+0100
TZNAME:CET
DTSTART:20201025T010000
END:STANDARD
BEGIN:DAYLIGHT
TZOFFSETFROM:+0100
TZOFFSETTO:+0200
TZNAME:CEST
DTSTART:20210328T010000
END:DAYLIGHT
BEGIN:STANDARD
TZOFFSETFROM:+0200
TZOFFSETTO:+0100
TZNAME:CET
DTSTART:20211031T010000
END:STANDARD
BEGIN:DAYLIGHT
TZOFFSETFROM:+0100
TZOFFSETTO:+0200
TZNAME:CEST
DTSTART:20220327T010000
END:DAYLIGHT
BEGIN:STANDARD
TZOFFSETFROM:+0200
TZOFFSETTO:+0100
TZNAME:CET
DTSTART:20221030T010000
END:STANDARD
END:VTIMEZONE
BEGIN:VEVENT
DTSTART;TZID=Europe/Berlin:20211028T150000
DTEND;TZID=Europe/Berlin:20211028T230000
DTSTAMP:20260423T131754
CREATED:20211026T044412Z
LAST-MODIFIED:20211125T173259Z
UID:8133-1635433200-1635462000@stair.ch
SUMMARY:Back on Campus Oktoberfest Edition
DESCRIPTION:Pub Crawl ist leider massnahmentechnisch nicht möglich\, aber dieser Event wird das zurück vor Ort sein ebenfalls angemessen feiern.\nDer Event findet im Foyer des Nebengebäudes S12 statt am 28.10 und startet um 15:00.\nFür die Hungrigen gibt es etwas zu Essen. Wir haben auch vegetarische Varianten.\nWir freuen uns mit dir wieder anzustossen. \nPub Crawl\, unfortunately\, had to be cancelled due to the current corona measures\, but the Oktoberfest event will celebrate the return to campus just as good.\nThe event will take place in the foyer of building S12\, on October 28th\, and will start at 15:00. There will be plenty of snacks. An alternative is available for vegetarians.\nWe can’t wait to see you again!
URL:https://stair.ch/event/back-on-campus/
LOCATION:Campus Rotkreuz\, Foyer im S12\, Suurstoffi 1\, Rotkreuz\, Zug\, 6343\, Schweiz
ORGANIZER;CN="STAIR":MAILTO:info@stair.ch
END:VEVENT
END:VCALENDAR