BEGIN:VCALENDAR
VERSION:2.0
PRODID:-//STAIR - ECPv6.15.17.1//NONSGML v1.0//EN
CALSCALE:GREGORIAN
METHOD:PUBLISH
X-WR-CALNAME:STAIR
X-ORIGINAL-URL:https://stair.ch
X-WR-CALDESC:Veranstaltungen für STAIR
REFRESH-INTERVAL;VALUE=DURATION:PT1H
X-Robots-Tag:noindex
X-PUBLISHED-TTL:PT1H
BEGIN:VTIMEZONE
TZID:Europe/Berlin
BEGIN:DAYLIGHT
TZOFFSETFROM:+0100
TZOFFSETTO:+0200
TZNAME:CEST
DTSTART:20210328T010000
END:DAYLIGHT
BEGIN:STANDARD
TZOFFSETFROM:+0200
TZOFFSETTO:+0100
TZNAME:CET
DTSTART:20211031T010000
END:STANDARD
BEGIN:DAYLIGHT
TZOFFSETFROM:+0100
TZOFFSETTO:+0200
TZNAME:CEST
DTSTART:20220327T010000
END:DAYLIGHT
BEGIN:STANDARD
TZOFFSETFROM:+0200
TZOFFSETTO:+0100
TZNAME:CET
DTSTART:20221030T010000
END:STANDARD
BEGIN:DAYLIGHT
TZOFFSETFROM:+0100
TZOFFSETTO:+0200
TZNAME:CEST
DTSTART:20230326T010000
END:DAYLIGHT
BEGIN:STANDARD
TZOFFSETFROM:+0200
TZOFFSETTO:+0100
TZNAME:CET
DTSTART:20231029T010000
END:STANDARD
END:VTIMEZONE
BEGIN:VEVENT
DTSTART;TZID=Europe/Berlin:20220317T150000
DTEND;TZID=Europe/Berlin:20220317T230000
DTSTAMP:20260422T114647
CREATED:20220224T133757Z
LAST-MODIFIED:20220224T133757Z
UID:8620-1647529200-1647558000@stair.ch
SUMMARY:Brettspieltag / Board Game Event FS2022
DESCRIPTION:English version below \nAm 17. März ist unser Brettspieltag im Forum im S1.\nWie der Name schon sagt\, kannst Du mit deinen (baldigen) Freunden und Studienkollegen verschiedene Brettspiele und Games\, wie z.B. Mario Kart\, spielen.\nEs gibt auch Bier und gratis Snacks und Softgetränke.\nDer Event startet um 15:00 Uhr. \n\nOn 17. March\, we will host our Board Game Event.\nIt will take place in the Forum in S1. As the name suggests\, you can play different games with your (new) friends.\nWe will offer multiple board games and computer games\, such as Mario Kart.\nThere will be beer\, free snacks and free soft drinks.\nThe event will start at 15:00.
URL:https://stair.ch/event/board-game-event-fs2022/
LOCATION:Campus Rotkreuz\, S1\, Forum\, Suurstoffi 1\, Rotkreuz\, Zug\, 6343\, Schweiz
ORGANIZER;CN="STAIR":MAILTO:info@stair.ch
END:VEVENT
END:VCALENDAR