BEGIN:VCALENDAR
VERSION:2.0
PRODID:-//STAIR - ECPv6.15.17.1//NONSGML v1.0//EN
CALSCALE:GREGORIAN
METHOD:PUBLISH
X-WR-CALNAME:STAIR
X-ORIGINAL-URL:https://stair.ch
X-WR-CALDESC:Veranstaltungen für STAIR
REFRESH-INTERVAL;VALUE=DURATION:PT1H
X-Robots-Tag:noindex
X-PUBLISHED-TTL:PT1H
BEGIN:VTIMEZONE
TZID:Europe/Berlin
BEGIN:DAYLIGHT
TZOFFSETFROM:+0100
TZOFFSETTO:+0200
TZNAME:CEST
DTSTART:20180325T010000
END:DAYLIGHT
BEGIN:STANDARD
TZOFFSETFROM:+0200
TZOFFSETTO:+0100
TZNAME:CET
DTSTART:20181028T010000
END:STANDARD
BEGIN:DAYLIGHT
TZOFFSETFROM:+0100
TZOFFSETTO:+0200
TZNAME:CEST
DTSTART:20190331T010000
END:DAYLIGHT
BEGIN:STANDARD
TZOFFSETFROM:+0200
TZOFFSETTO:+0100
TZNAME:CET
DTSTART:20191027T010000
END:STANDARD
BEGIN:DAYLIGHT
TZOFFSETFROM:+0100
TZOFFSETTO:+0200
TZNAME:CEST
DTSTART:20200329T010000
END:DAYLIGHT
BEGIN:STANDARD
TZOFFSETFROM:+0200
TZOFFSETTO:+0100
TZNAME:CET
DTSTART:20201025T010000
END:STANDARD
END:VTIMEZONE
BEGIN:VEVENT
DTSTART;TZID=Europe/Berlin:20190425T180000
DTEND;TZID=Europe/Berlin:20190425T230000
DTSTAMP:20260420T085024
CREATED:20190217T194610Z
LAST-MODIFIED:20190422T122943Z
UID:6676-1556215200-1556233200@stair.ch
SUMMARY:Brettspielabend FS'19
DESCRIPTION:Um die Kommunikation zwischen den Studierenden zu fördern führen wir dieses Semester einen gemütlichen Brettspielabend im S12.018 durch. Die Spiele stellen wir zur Verfügung\, aber um die Auswahl interessanter zu gestalten darfst du auch gerne deine eigenen mitbringen. Für Verpflegung ist gesorgt\, Anmeldeschluss ist der 24. April 2019. \nWir freuen uns auf einen gemütlichen Spieleabend\, bis dann! \nDiese Spiele bringen wir mit: \n\nMonopoly (2x)\nCards Against Humanity\nSiedler von Catan\nJenga Casino\nBlack Stories 7\nLigretto\nMalefiz\nMAD\nWer wird Millionär?\nYazee\nJass-Set\nInkognito\nRisiko\nSchach\nPoker\nScrabble\n\n			\n				Anmeldung
URL:https://stair.ch/event/brettspielabend-fs19/
LOCATION:Campus Rotkreuz\, Campus Zug\, Suurstoffi 1\, Rotkreuz ZG\, 6343\, Schweiz
CATEGORIES:Aktivitäten
ORGANIZER;CN="STAIR":MAILTO:info@stair.ch
END:VEVENT
END:VCALENDAR