BEGIN:VCALENDAR
VERSION:2.0
PRODID:-//STAIR - ECPv6.15.17.1//NONSGML v1.0//EN
CALSCALE:GREGORIAN
METHOD:PUBLISH
X-WR-CALNAME:STAIR
X-ORIGINAL-URL:https://stair.ch
X-WR-CALDESC:Veranstaltungen für STAIR
REFRESH-INTERVAL;VALUE=DURATION:PT1H
X-Robots-Tag:noindex
X-PUBLISHED-TTL:PT1H
BEGIN:VTIMEZONE
TZID:Europe/Berlin
BEGIN:DAYLIGHT
TZOFFSETFROM:+0100
TZOFFSETTO:+0200
TZNAME:CEST
DTSTART:20220327T010000
END:DAYLIGHT
BEGIN:STANDARD
TZOFFSETFROM:+0200
TZOFFSETTO:+0100
TZNAME:CET
DTSTART:20221030T010000
END:STANDARD
BEGIN:DAYLIGHT
TZOFFSETFROM:+0100
TZOFFSETTO:+0200
TZNAME:CEST
DTSTART:20230326T010000
END:DAYLIGHT
BEGIN:STANDARD
TZOFFSETFROM:+0200
TZOFFSETTO:+0100
TZNAME:CET
DTSTART:20231029T010000
END:STANDARD
BEGIN:DAYLIGHT
TZOFFSETFROM:+0100
TZOFFSETTO:+0200
TZNAME:CEST
DTSTART:20240331T010000
END:DAYLIGHT
BEGIN:STANDARD
TZOFFSETFROM:+0200
TZOFFSETTO:+0100
TZNAME:CET
DTSTART:20241027T010000
END:STANDARD
END:VTIMEZONE
BEGIN:VEVENT
DTSTART;TZID=Europe/Berlin:20231121T150000
DTEND;TZID=Europe/Berlin:20231121T233000
DTSTAMP:20260422T120113
CREATED:20230914T065323Z
LAST-MODIFIED:20230914T065452Z
UID:10725-1700578800-1700609400@stair.ch
SUMMARY:Brettspieltag HS23
DESCRIPTION:English version below \nBei unserem Brettspieltag gibt es wieder diverse analoge und digitale Spiele um deine Mitstudenten besser kennen zu lernen.\nGratis Bier\, Softdrinks\, Hotdogs und jede Menge Snacks sind natürlich auch vorhanden. \nDer Brettspieltag findet im Forum in der Surstoffi 1\, rechts von der Rezeption\, statt. \n\nIn our board game event of this semester\, you can play a big selection of analog and digital games with your fellow students.\nTo keep you hydrated\, we have free beer\, soft drinks\, hotdogs and lots of snacks. \nIt takes place in the Forum at Surstoffi 1\, right of the reception.
URL:https://stair.ch/event/brettspieltag-hs23/
LOCATION:Campus Rotkreuz\, S1\, Forum\, Suurstoffi 1\, Rotkreuz\, Zug\, 6343\, Schweiz
ORGANIZER;CN="STAIR":MAILTO:info@stair.ch
END:VEVENT
END:VCALENDAR