BEGIN:VCALENDAR
VERSION:2.0
PRODID:-//STAIR - ECPv6.15.17.1//NONSGML v1.0//EN
CALSCALE:GREGORIAN
METHOD:PUBLISH
X-WR-CALNAME:STAIR
X-ORIGINAL-URL:https://stair.ch
X-WR-CALDESC:Veranstaltungen für STAIR
REFRESH-INTERVAL;VALUE=DURATION:PT1H
X-Robots-Tag:noindex
X-PUBLISHED-TTL:PT1H
BEGIN:VTIMEZONE
TZID:Europe/Berlin
BEGIN:DAYLIGHT
TZOFFSETFROM:+0100
TZOFFSETTO:+0200
TZNAME:CEST
DTSTART:20220327T010000
END:DAYLIGHT
BEGIN:STANDARD
TZOFFSETFROM:+0200
TZOFFSETTO:+0100
TZNAME:CET
DTSTART:20221030T010000
END:STANDARD
BEGIN:DAYLIGHT
TZOFFSETFROM:+0100
TZOFFSETTO:+0200
TZNAME:CEST
DTSTART:20230326T010000
END:DAYLIGHT
BEGIN:STANDARD
TZOFFSETFROM:+0200
TZOFFSETTO:+0100
TZNAME:CET
DTSTART:20231029T010000
END:STANDARD
BEGIN:DAYLIGHT
TZOFFSETFROM:+0100
TZOFFSETTO:+0200
TZNAME:CEST
DTSTART:20240331T010000
END:DAYLIGHT
BEGIN:STANDARD
TZOFFSETFROM:+0200
TZOFFSETTO:+0100
TZNAME:CET
DTSTART:20241027T010000
END:STANDARD
END:VTIMEZONE
BEGIN:VEVENT
DTSTART;TZID=Europe/Berlin:20231013T160000
DTEND;TZID=Europe/Berlin:20231013T210000
DTSTAMP:20260420T083837
CREATED:20231003T184336Z
LAST-MODIFIED:20231003T184336Z
UID:10801-1697212800-1697230800@stair.ch
SUMMARY:Cocktail Night HS23
DESCRIPTION:English version below \nLiebst du auch Cocktails\, so wie wir?  Dann komm am Freitag\, 13. Oktober ab 16 Uhr bei der Docker Bar für den allerersten Cocktail Night! Es gibt eine riesige Auswahl an klassische Cocktails für einen Spezialpreis.  See you there! \n\nDo you also love cocktails as much as we do? Then come to Docker Bar on Friday\, 13th October from 16 o’clock for the first ever Cocktail Night! There is a huge selection of classic cocktails for a special price. See you there!
URL:https://stair.ch/event/cocktail-night-hs23/
LOCATION:Campus Rotkreuz\, Docker Bar\, Campus Zug\, Suurstoffi 1\, Rotkreuz\, Zug\, 6343\, Schweiz
ORGANIZER;CN="STAIR":MAILTO:info@stair.ch
END:VEVENT
END:VCALENDAR