BEGIN:VCALENDAR
VERSION:2.0
PRODID:-//STAIR - ECPv6.15.17.1//NONSGML v1.0//EN
CALSCALE:GREGORIAN
METHOD:PUBLISH
X-WR-CALNAME:STAIR
X-ORIGINAL-URL:https://stair.ch
X-WR-CALDESC:Veranstaltungen für STAIR
REFRESH-INTERVAL;VALUE=DURATION:PT1H
X-Robots-Tag:noindex
X-PUBLISHED-TTL:PT1H
BEGIN:VTIMEZONE
TZID:Europe/Berlin
BEGIN:DAYLIGHT
TZOFFSETFROM:+0100
TZOFFSETTO:+0200
TZNAME:CEST
DTSTART:20190331T010000
END:DAYLIGHT
BEGIN:STANDARD
TZOFFSETFROM:+0200
TZOFFSETTO:+0100
TZNAME:CET
DTSTART:20191027T010000
END:STANDARD
BEGIN:DAYLIGHT
TZOFFSETFROM:+0100
TZOFFSETTO:+0200
TZNAME:CEST
DTSTART:20200329T010000
END:DAYLIGHT
BEGIN:STANDARD
TZOFFSETFROM:+0200
TZOFFSETTO:+0100
TZNAME:CET
DTSTART:20201025T010000
END:STANDARD
BEGIN:DAYLIGHT
TZOFFSETFROM:+0100
TZOFFSETTO:+0200
TZNAME:CEST
DTSTART:20210328T010000
END:DAYLIGHT
BEGIN:STANDARD
TZOFFSETFROM:+0200
TZOFFSETTO:+0100
TZNAME:CET
DTSTART:20211031T010000
END:STANDARD
END:VTIMEZONE
BEGIN:VEVENT
DTSTART;TZID=Europe/Berlin:20201016T200000
DTEND;TZID=Europe/Berlin:20201226T230000
DTSTAMP:20260423T132644
CREATED:20201013T142638Z
LAST-MODIFIED:20201016T095608Z
UID:7645-1602878400-1609023600@stair.ch
SUMMARY:Coding Challenge: Image
DESCRIPTION:This coding challenge was created by Alex Fleischli for STAIR during HS20.\nIt is part of the Capture the Flag event hosted by STAIR.   \nWhile this challenge is running we are going to add more hints.\nThe more hints given at the time you are submitting this challenge\, the less points you will be given for completing it. \nYou can find the linkto the Git repository here. \nAfter finishing the challenge please drop your zipped code into this folder\nIf you don’t have access to the group please write a short e-mail to joel.grepper@stud.hslu.ch. \nThe faster you are the more points you collect\, so you better start coding now! \nAvailable hints:
URL:https://stair.ch/event/coding-challenge-image/
LOCATION:Online
CATEGORIES:Capture the Flag,Offizieller Anlass,Online-Event
ATTACH;FMTTYPE=image/png:https://stair.ch/wp-content/uploads/2020/10/Capture-the-Flag-1.png
ORGANIZER;CN="STAIR":MAILTO:info@stair.ch
END:VEVENT
END:VCALENDAR