BEGIN:VCALENDAR
VERSION:2.0
PRODID:-//STAIR - ECPv6.15.17.1//NONSGML v1.0//EN
CALSCALE:GREGORIAN
METHOD:PUBLISH
X-WR-CALNAME:STAIR
X-ORIGINAL-URL:https://stair.ch
X-WR-CALDESC:Veranstaltungen für STAIR
REFRESH-INTERVAL;VALUE=DURATION:PT1H
X-Robots-Tag:noindex
X-PUBLISHED-TTL:PT1H
BEGIN:VTIMEZONE
TZID:Europe/Berlin
BEGIN:DAYLIGHT
TZOFFSETFROM:+0100
TZOFFSETTO:+0200
TZNAME:CEST
DTSTART:20210328T010000
END:DAYLIGHT
BEGIN:STANDARD
TZOFFSETFROM:+0200
TZOFFSETTO:+0100
TZNAME:CET
DTSTART:20211031T010000
END:STANDARD
BEGIN:DAYLIGHT
TZOFFSETFROM:+0100
TZOFFSETTO:+0200
TZNAME:CEST
DTSTART:20220327T010000
END:DAYLIGHT
BEGIN:STANDARD
TZOFFSETFROM:+0200
TZOFFSETTO:+0100
TZNAME:CET
DTSTART:20221030T010000
END:STANDARD
BEGIN:DAYLIGHT
TZOFFSETFROM:+0100
TZOFFSETTO:+0200
TZNAME:CEST
DTSTART:20230326T010000
END:DAYLIGHT
BEGIN:STANDARD
TZOFFSETFROM:+0200
TZOFFSETTO:+0100
TZNAME:CET
DTSTART:20231029T010000
END:STANDARD
END:VTIMEZONE
BEGIN:VEVENT
DTSTART;TZID=Europe/Berlin:20220301T150000
DTEND;TZID=Europe/Berlin:20220301T230000
DTSTAMP:20260422T120344
CREATED:20220224T132537Z
LAST-MODIFIED:20220224T134404Z
UID:8617-1646146800-1646175600@stair.ch
SUMMARY:Freshmen Event FS2022
DESCRIPTION:English version below \nFrisch im Studium? Oder einfach zum ersten Mal vor Ort? Dann komm zu unserem Freshmen Event mit vielen (nicht-)alkoholfreien Getränken.\nEin Bier gibt es für einen Franken\, alles Andere ist kostenlos\, sowie auch der Eintritt.\nDu kannst also kommen und gehen\, wann du willst.\nDie Wandelhalle findest du im S1 (Hauptgebäude) wenn du links an der Rezeption vorbei gehst. \n\nAre you a freshmen? Or is it your first time on campus? Then come and check out our event for free.\nYou can get a beer for one Franc. Everything else is free of charge.\nYou can come and go however you want.\nYou find the Wandelhalle in the main building when you walk left by the reception.
URL:https://stair.ch/event/freshmen-event-fs2022/
LOCATION:Campus Rotkreuz\, S1\, Wandelhalle\, Suurstoffi 1\, Rotkreuz\, Zug\, 6343\, Schweiz
ORGANIZER;CN="STAIR":MAILTO:info@stair.ch
END:VEVENT
END:VCALENDAR