BEGIN:VCALENDAR
VERSION:2.0
PRODID:-//STAIR - ECPv6.15.17.1//NONSGML v1.0//EN
CALSCALE:GREGORIAN
METHOD:PUBLISH
X-WR-CALNAME:STAIR
X-ORIGINAL-URL:https://stair.ch
X-WR-CALDESC:Veranstaltungen für STAIR
REFRESH-INTERVAL;VALUE=DURATION:PT1H
X-Robots-Tag:noindex
X-PUBLISHED-TTL:PT1H
BEGIN:VTIMEZONE
TZID:Europe/Berlin
BEGIN:DAYLIGHT
TZOFFSETFROM:+0100
TZOFFSETTO:+0200
TZNAME:CEST
DTSTART:20210328T010000
END:DAYLIGHT
BEGIN:STANDARD
TZOFFSETFROM:+0200
TZOFFSETTO:+0100
TZNAME:CET
DTSTART:20211031T010000
END:STANDARD
BEGIN:DAYLIGHT
TZOFFSETFROM:+0100
TZOFFSETTO:+0200
TZNAME:CEST
DTSTART:20220327T010000
END:DAYLIGHT
BEGIN:STANDARD
TZOFFSETFROM:+0200
TZOFFSETTO:+0100
TZNAME:CET
DTSTART:20221030T010000
END:STANDARD
BEGIN:DAYLIGHT
TZOFFSETFROM:+0100
TZOFFSETTO:+0200
TZNAME:CEST
DTSTART:20230326T010000
END:DAYLIGHT
BEGIN:STANDARD
TZOFFSETFROM:+0200
TZOFFSETTO:+0100
TZNAME:CET
DTSTART:20231029T010000
END:STANDARD
END:VTIMEZONE
BEGIN:VEVENT
DTSTART;TZID=Europe/Berlin:20220926T160000
DTEND;TZID=Europe/Berlin:20220926T230000
DTSTAMP:20260422T114641
CREATED:20220925T141310Z
LAST-MODIFIED:20220925T141606Z
UID:9289-1664208000-1664233200@stair.ch
SUMMARY:Freshmen Event HS2022
DESCRIPTION:English version below \nFrisch im Studium? Oder einfach zum ersten Mal vor Ort? Dann komm zu unserem Freshmen Event mit vielen (nicht-)alkoholfreien Getränken\, Hot Dogs und Snacks.\nDazu gibt es Minigames\, um Punkte für dein Haus zu sammeln.\nEin Bier gibt es für einen Franken\, alles Andere ist kostenlos\, sowie auch der Eintritt.\nDu kannst also kommen und gehen\, wann du willst.\nDas Forum findest du im S1 (Hauptgebäude)\, wenn du rechts an der Rezeption vorbeigehst. \n\nAre you a freshmen? Or is it your first time on campus? Then come and check out our event for free.\nThere’ll be soda\, drinks\, hot dogs and snacks. You’ll also be able to take part in minigames to earn points for your house.\nYou can get a beer for one Franc. Everything else is free of charge.\nYou can come and go whenever you want.\nYou find the Foruk in the main building right of the reception.
URL:https://stair.ch/event/freshmen-event-hs2022/
LOCATION:Campus Rotkreuz\, S1\, Forum\, Suurstoffi 1\, Rotkreuz\, Zug\, 6343\, Schweiz
END:VEVENT
END:VCALENDAR