BEGIN:VCALENDAR
VERSION:2.0
PRODID:-//STAIR - ECPv6.15.17.1//NONSGML v1.0//EN
CALSCALE:GREGORIAN
METHOD:PUBLISH
X-WR-CALNAME:STAIR
X-ORIGINAL-URL:https://stair.ch
X-WR-CALDESC:Veranstaltungen für STAIR
REFRESH-INTERVAL;VALUE=DURATION:PT1H
X-Robots-Tag:noindex
X-PUBLISHED-TTL:PT1H
BEGIN:VTIMEZONE
TZID:Europe/Berlin
BEGIN:DAYLIGHT
TZOFFSETFROM:+0100
TZOFFSETTO:+0200
TZNAME:CEST
DTSTART:20170326T010000
END:DAYLIGHT
BEGIN:STANDARD
TZOFFSETFROM:+0200
TZOFFSETTO:+0100
TZNAME:CET
DTSTART:20171029T010000
END:STANDARD
BEGIN:DAYLIGHT
TZOFFSETFROM:+0100
TZOFFSETTO:+0200
TZNAME:CEST
DTSTART:20180325T010000
END:DAYLIGHT
BEGIN:STANDARD
TZOFFSETFROM:+0200
TZOFFSETTO:+0100
TZNAME:CET
DTSTART:20181028T010000
END:STANDARD
BEGIN:DAYLIGHT
TZOFFSETFROM:+0100
TZOFFSETTO:+0200
TZNAME:CEST
DTSTART:20190331T010000
END:DAYLIGHT
BEGIN:STANDARD
TZOFFSETFROM:+0200
TZOFFSETTO:+0100
TZNAME:CET
DTSTART:20191027T010000
END:STANDARD
END:VTIMEZONE
BEGIN:VEVENT
DTSTART;TZID=Europe/Berlin:20180918T150000
DTEND;TZID=Europe/Berlin:20180918T200000
DTSTAMP:20260424T121740
CREATED:20180905T154410Z
LAST-MODIFIED:20180918T115004Z
UID:5935-1537282800-1537300800@stair.ch
SUMMARY:Freshmen Welcome Grill 🔥
DESCRIPTION:Willkommen\, liebe Neustudierende!\nMit einer lockeren Grillparty möchten wir euch in der STAIR Community willkommen heissen und auf die kommenden Semester zusammen mit dem Rest der Studierenden anstossen. Der optimale Anlass\, um eure Studienkolleginnen und Studienkollegen besser kennenzulernen! \nLediglich Material für auf den Grill braucht ihr\, für alles andere sorgen wir 😉 \nEine Anmerkung für wasserscheue Personen: Der Event findet bei jeder Witterung beim S12 statt\, wir sind einfallsreich 😁✌️
URL:https://stair.ch/event/freshmen-welcome-grill-%f0%9f%94%a5/
LOCATION:Campus Rotkreuz\, Campus Zug\, Suurstoffi 1\, Rotkreuz ZG\, 6343\, Schweiz
CATEGORIES:Party
ORGANIZER;CN="STAIR":MAILTO:info@stair.ch
END:VEVENT
END:VCALENDAR