BEGIN:VCALENDAR
VERSION:2.0
PRODID:-//STAIR - ECPv6.15.17.1//NONSGML v1.0//EN
CALSCALE:GREGORIAN
METHOD:PUBLISH
X-WR-CALNAME:STAIR
X-ORIGINAL-URL:https://stair.ch
X-WR-CALDESC:Veranstaltungen für STAIR
REFRESH-INTERVAL;VALUE=DURATION:PT1H
X-Robots-Tag:noindex
X-PUBLISHED-TTL:PT1H
BEGIN:VTIMEZONE
TZID:Europe/Berlin
BEGIN:DAYLIGHT
TZOFFSETFROM:+0100
TZOFFSETTO:+0200
TZNAME:CEST
DTSTART:20150329T010000
END:DAYLIGHT
BEGIN:STANDARD
TZOFFSETFROM:+0200
TZOFFSETTO:+0100
TZNAME:CET
DTSTART:20151025T010000
END:STANDARD
BEGIN:DAYLIGHT
TZOFFSETFROM:+0100
TZOFFSETTO:+0200
TZNAME:CEST
DTSTART:20160327T010000
END:DAYLIGHT
BEGIN:STANDARD
TZOFFSETFROM:+0200
TZOFFSETTO:+0100
TZNAME:CET
DTSTART:20161030T010000
END:STANDARD
BEGIN:DAYLIGHT
TZOFFSETFROM:+0100
TZOFFSETTO:+0200
TZNAME:CEST
DTSTART:20170326T010000
END:DAYLIGHT
BEGIN:STANDARD
TZOFFSETFROM:+0200
TZOFFSETTO:+0100
TZNAME:CET
DTSTART:20171029T010000
END:STANDARD
END:VTIMEZONE
BEGIN:VEVENT
DTSTART;TZID=Europe/Berlin:20161203T090000
DTEND;TZID=Europe/Berlin:20161203T210000
DTSTAMP:20260420T100637
CREATED:20161020T112740Z
LAST-MODIFIED:20161111T164201Z
UID:4038-1480755600-1480798800@stair.ch
SUMMARY:Local Hack Day - Hackathon in Rotkreuz
DESCRIPTION:Wir freuen uns verkünden zu dürfen\, dass der MLH Local Hack Day nach Rotkreuz kommt. Local Hack Day ist ein eintägiger\, weltweit stattfindender Hackathon. Es nehmen über 100 Schulen und Universitäten vom Silicon Valley bis nach Ghana teil. Koordiniert wird dieser Event von MLH\, Major League Hacking. MLH ist eine Organisation\, die Schüler- und Studentenhackathons auf der ganzen Welt organisiert und unterstützt. \nBist du ein „Techie“\, Programmierer\, Hacker\, Designer oder einfach jemand der gleich gesinnte Technikinteressierte treffen will\, um etwas Neues zu lernen? Dann schliess dich uns am Samstag\, 3. Dezember 2016 an. Alle Studenten und Studieninteressierte sind eingeladen teilzunehmen – ganz unabhängig vom Skill-Level.\nDas Event ist gratis und Verpflegung organisieren wir. Weiter gibt es gratis SWAG von GitHub und MLH. \nMehr Infos findest du unter http://www.zentralhack.ch/. Klicke „Apply“ und registriere dich noch heute =D. \nIst Rotkreuz nicht dein Lebensmittelpunkt\, auf https://localhackday.mlh.io/ findest du etliche andere Schulen\, an denen am 3. Dezember ein Local Hack Day durchgeführt wird.
URL:https://stair.ch/event/local-hack-day/
LOCATION:Campus Rotkreuz\, Campus Zug\, Suurstoffi 1\, Rotkreuz ZG\, 6343\, Schweiz
CATEGORIES:Hackathon
ATTACH;FMTTYPE=image/png:https://stair.ch/wp-content/uploads/2016/10/LHD-Flyer.png
END:VEVENT
END:VCALENDAR