BEGIN:VCALENDAR
VERSION:2.0
PRODID:-//STAIR - ECPv6.15.17.1//NONSGML v1.0//EN
CALSCALE:GREGORIAN
METHOD:PUBLISH
X-WR-CALNAME:STAIR
X-ORIGINAL-URL:https://stair.ch
X-WR-CALDESC:Veranstaltungen für STAIR
REFRESH-INTERVAL;VALUE=DURATION:PT1H
X-Robots-Tag:noindex
X-PUBLISHED-TTL:PT1H
BEGIN:VTIMEZONE
TZID:Europe/Berlin
BEGIN:DAYLIGHT
TZOFFSETFROM:+0100
TZOFFSETTO:+0200
TZNAME:CEST
DTSTART:20240331T010000
END:DAYLIGHT
BEGIN:STANDARD
TZOFFSETFROM:+0200
TZOFFSETTO:+0100
TZNAME:CET
DTSTART:20241027T010000
END:STANDARD
BEGIN:DAYLIGHT
TZOFFSETFROM:+0100
TZOFFSETTO:+0200
TZNAME:CEST
DTSTART:20250330T010000
END:DAYLIGHT
BEGIN:STANDARD
TZOFFSETFROM:+0200
TZOFFSETTO:+0100
TZNAME:CET
DTSTART:20251026T010000
END:STANDARD
BEGIN:DAYLIGHT
TZOFFSETFROM:+0100
TZOFFSETTO:+0200
TZNAME:CEST
DTSTART:20260329T010000
END:DAYLIGHT
BEGIN:STANDARD
TZOFFSETFROM:+0200
TZOFFSETTO:+0100
TZNAME:CET
DTSTART:20261025T010000
END:STANDARD
END:VTIMEZONE
BEGIN:VEVENT
DTSTART;TZID=Europe/Berlin:20250426T160000
DTEND;TZID=Europe/Berlin:20250427T040000
DTSTAMP:20260422T121607
CREATED:20250315T175212Z
LAST-MODIFIED:20250315T175212Z
UID:13023-1745683200-1745726400@stair.ch
SUMMARY:OneHSLU Fest
DESCRIPTION:Das OneHSLU Fest ist zurück! 🎉 \nBist du bereit für die Party des Jahres? Das OneHSLU Fest geht in die zweite Runde und macht diesen Frühling Halt im legendären Südpol! 🌟 \nMach mit und sei Teil der grössten Studiparty der Hochschule Luzern! \n📅 Save the Date: 26. April 2025\nDas willst du nicht verpassen. Let’s celebrate together! 🎶
URL:https://stair.ch/event/onehslu-fest-fs25/
LOCATION:Südpol\, Arsenalstrasse 28\, Kriens\, Luzern\, 6010
END:VEVENT
END:VCALENDAR