BEGIN:VCALENDAR
VERSION:2.0
PRODID:-//STAIR - ECPv6.15.17.1//NONSGML v1.0//EN
CALSCALE:GREGORIAN
METHOD:PUBLISH
X-WR-CALNAME:STAIR
X-ORIGINAL-URL:https://stair.ch
X-WR-CALDESC:Veranstaltungen für STAIR
REFRESH-INTERVAL;VALUE=DURATION:PT1H
X-Robots-Tag:noindex
X-PUBLISHED-TTL:PT1H
BEGIN:VTIMEZONE
TZID:Europe/Berlin
BEGIN:DAYLIGHT
TZOFFSETFROM:+0100
TZOFFSETTO:+0200
TZNAME:CEST
DTSTART:20180325T010000
END:DAYLIGHT
BEGIN:STANDARD
TZOFFSETFROM:+0200
TZOFFSETTO:+0100
TZNAME:CET
DTSTART:20181028T010000
END:STANDARD
BEGIN:DAYLIGHT
TZOFFSETFROM:+0100
TZOFFSETTO:+0200
TZNAME:CEST
DTSTART:20190331T010000
END:DAYLIGHT
BEGIN:STANDARD
TZOFFSETFROM:+0200
TZOFFSETTO:+0100
TZNAME:CET
DTSTART:20191027T010000
END:STANDARD
BEGIN:DAYLIGHT
TZOFFSETFROM:+0100
TZOFFSETTO:+0200
TZNAME:CEST
DTSTART:20200329T010000
END:DAYLIGHT
BEGIN:STANDARD
TZOFFSETFROM:+0200
TZOFFSETTO:+0100
TZNAME:CET
DTSTART:20201025T010000
END:STANDARD
END:VTIMEZONE
BEGIN:VEVENT
DTSTART;TZID=Europe/Berlin:20190311T113000
DTEND;TZID=Europe/Berlin:20190311T130000
DTSTAMP:20260422T120109
CREATED:20190217T193718Z
LAST-MODIFIED:20190311T100445Z
UID:6672-1552303800-1552309200@stair.ch
SUMMARY:Pizzaplausch FS'19
DESCRIPTION:Zeit für einen gemütlichen Pizzaplausch im S12\, um den Austausch unter den Studierenden zu fördern 🍕
URL:https://stair.ch/event/pizzaplausch-fs19/
LOCATION:Campus Rotkreuz\, Campus Zug\, Suurstoffi 1\, Rotkreuz ZG\, 6343\, Schweiz
ATTACH;FMTTYPE=image/jpeg:https://stair.ch/wp-content/uploads/2019/02/WhatsApp-Image-2019-03-10-at-22.30.42.jpeg
ORGANIZER;CN="STAIR":MAILTO:info@stair.ch
END:VEVENT
END:VCALENDAR