BEGIN:VCALENDAR
VERSION:2.0
PRODID:-//STAIR - ECPv6.15.17.1//NONSGML v1.0//EN
CALSCALE:GREGORIAN
METHOD:PUBLISH
X-WR-CALNAME:STAIR
X-ORIGINAL-URL:https://stair.ch
X-WR-CALDESC:Veranstaltungen für STAIR
REFRESH-INTERVAL;VALUE=DURATION:PT1H
X-Robots-Tag:noindex
X-PUBLISHED-TTL:PT1H
BEGIN:VTIMEZONE
TZID:Europe/Berlin
BEGIN:DAYLIGHT
TZOFFSETFROM:+0100
TZOFFSETTO:+0200
TZNAME:CEST
DTSTART:20160327T010000
END:DAYLIGHT
BEGIN:STANDARD
TZOFFSETFROM:+0200
TZOFFSETTO:+0100
TZNAME:CET
DTSTART:20161030T010000
END:STANDARD
BEGIN:DAYLIGHT
TZOFFSETFROM:+0100
TZOFFSETTO:+0200
TZNAME:CEST
DTSTART:20170326T010000
END:DAYLIGHT
BEGIN:STANDARD
TZOFFSETFROM:+0200
TZOFFSETTO:+0100
TZNAME:CET
DTSTART:20171029T010000
END:STANDARD
BEGIN:DAYLIGHT
TZOFFSETFROM:+0100
TZOFFSETTO:+0200
TZNAME:CEST
DTSTART:20180325T010000
END:DAYLIGHT
BEGIN:STANDARD
TZOFFSETFROM:+0200
TZOFFSETTO:+0100
TZNAME:CET
DTSTART:20181028T010000
END:STANDARD
END:VTIMEZONE
BEGIN:VEVENT
DTSTART;TZID=Europe/Berlin:20171005T185000
DTEND;TZID=Europe/Berlin:20171005T221500
DTSTAMP:20260423T131831
CREATED:20170917T215142Z
LAST-MODIFIED:20170917T215142Z
UID:5031-1507229400-1507241700@stair.ch
SUMMARY:Pub Crawl #3
DESCRIPTION:Der berüchtigte PUB CRAWL ist wieder da! \nAm ersten Donnerstag im Oktober tauchen wir ins Nachtleben von Luzern ein und hoppen zusammen von Bar zu Bar. \nEintritt ist für alle Gratis. Auch eure Freunde und Kollegen sind herzlich willkommen. Helft uns dabei\, diesen Pub Crawl grösser und besser als je zuvor zu machen! \nTreffpunkt ist um 18:50 beim Torbogen in Luzern.\nFree shots included 😉 \nDie Tour:\n18:50 Treffpunkt Torbogen\n19:15 Max Bar\n20:45 Platzhirsch\n22:15 Bar 59 (open end) \nUnverbindliche Empfehlung: Nehmt euch den Freitag frei 😛 \n  \nTeilnehmen kannst du auf FB.\nPS: Für die Verspäteten haben wir auf Facebook während der Pub Crawl Life-Meldungen!
URL:https://stair.ch/event/pub-crawl-3/
LOCATION:Torbogen\, Bahnhofpl\, Luzern\, 6003
CATEGORIES:Party,Pub Crawl
ATTACH;FMTTYPE=image/jpeg:https://stair.ch/wp-content/uploads/2017/09/pubcrawlhs17flyer.jpg
ORGANIZER;CN="STAIR":MAILTO:info@stair.ch
END:VEVENT
END:VCALENDAR