BEGIN:VCALENDAR
VERSION:2.0
PRODID:-//STAIR - ECPv6.15.17.1//NONSGML v1.0//EN
CALSCALE:GREGORIAN
METHOD:PUBLISH
X-WR-CALNAME:STAIR
X-ORIGINAL-URL:https://stair.ch
X-WR-CALDESC:Veranstaltungen für STAIR
REFRESH-INTERVAL;VALUE=DURATION:PT1H
X-Robots-Tag:noindex
X-PUBLISHED-TTL:PT1H
BEGIN:VTIMEZONE
TZID:Europe/Berlin
BEGIN:DAYLIGHT
TZOFFSETFROM:+0100
TZOFFSETTO:+0200
TZNAME:CEST
DTSTART:20170326T010000
END:DAYLIGHT
BEGIN:STANDARD
TZOFFSETFROM:+0200
TZOFFSETTO:+0100
TZNAME:CET
DTSTART:20171029T010000
END:STANDARD
BEGIN:DAYLIGHT
TZOFFSETFROM:+0100
TZOFFSETTO:+0200
TZNAME:CEST
DTSTART:20180325T010000
END:DAYLIGHT
BEGIN:STANDARD
TZOFFSETFROM:+0200
TZOFFSETTO:+0100
TZNAME:CET
DTSTART:20181028T010000
END:STANDARD
BEGIN:DAYLIGHT
TZOFFSETFROM:+0100
TZOFFSETTO:+0200
TZNAME:CEST
DTSTART:20190331T010000
END:DAYLIGHT
BEGIN:STANDARD
TZOFFSETFROM:+0200
TZOFFSETTO:+0100
TZNAME:CET
DTSTART:20191027T010000
END:STANDARD
END:VTIMEZONE
BEGIN:VEVENT
DTSTART;TZID=Europe/Berlin:20180412T185000
DTEND;TZID=Europe/Berlin:20180412T233000
DTSTAMP:20260422T130819
CREATED:20180331T103150Z
LAST-MODIFIED:20180410T113157Z
UID:5370-1523559000-1523575800@stair.ch
SUMMARY:Pub Crawl #4
DESCRIPTION:Pubcrawl? Pubcrawl! 🍻🎉 \nEs ist das vierte Mal\, und der Event hat bereits Kultstatus: Der legendäre Pubcrawl! \nAm Donnerstag\, 12. April ziehen wir wieder los und besuchen drei verschiedene Bars in der Stadt Luzern. Treffpunkt ist der grosse Torbogen beim Bahnhof. \nPROGRAMM:\n18:50 Treffpunkt Torbogen\n19:15 Haifish Bar\n20:45 Madeleine\n22:15 Molo Bar \nAlso schnappt euch eure Kollegen und nehmt gute Stimmung mit\, wir sehen uns! Der Eintritt ist wie immer für alle gratis\, und ja: Free Shots included 😉 \nFür alle Nachzügler wird es am Abend auf Facebook Live-Meldungen geben. \nCheers! 🥂
URL:https://stair.ch/event/pub-crawl-4/
ATTACH;FMTTYPE=image/png:https://stair.ch/wp-content/uploads/2018/03/pubcrawl_branded.png
END:VEVENT
END:VCALENDAR