BEGIN:VCALENDAR
VERSION:2.0
PRODID:-//STAIR - ECPv6.15.17.1//NONSGML v1.0//EN
CALSCALE:GREGORIAN
METHOD:PUBLISH
X-WR-CALNAME:STAIR
X-ORIGINAL-URL:https://stair.ch
X-WR-CALDESC:Veranstaltungen für STAIR
REFRESH-INTERVAL;VALUE=DURATION:PT1H
X-Robots-Tag:noindex
X-PUBLISHED-TTL:PT1H
BEGIN:VTIMEZONE
TZID:Europe/Berlin
BEGIN:DAYLIGHT
TZOFFSETFROM:+0100
TZOFFSETTO:+0200
TZNAME:CEST
DTSTART:20160327T010000
END:DAYLIGHT
BEGIN:STANDARD
TZOFFSETFROM:+0200
TZOFFSETTO:+0100
TZNAME:CET
DTSTART:20161030T010000
END:STANDARD
BEGIN:DAYLIGHT
TZOFFSETFROM:+0100
TZOFFSETTO:+0200
TZNAME:CEST
DTSTART:20170326T010000
END:DAYLIGHT
BEGIN:STANDARD
TZOFFSETFROM:+0200
TZOFFSETTO:+0100
TZNAME:CET
DTSTART:20171029T010000
END:STANDARD
BEGIN:DAYLIGHT
TZOFFSETFROM:+0100
TZOFFSETTO:+0200
TZNAME:CEST
DTSTART:20180325T010000
END:DAYLIGHT
BEGIN:STANDARD
TZOFFSETFROM:+0200
TZOFFSETTO:+0100
TZNAME:CET
DTSTART:20181028T010000
END:STANDARD
END:VTIMEZONE
BEGIN:VEVENT
DTSTART;TZID=Europe/Berlin:20171111T090000
DTEND;TZID=Europe/Berlin:20171111T200000
DTSTAMP:20260420T100542
CREATED:20171010T190934Z
LAST-MODIFIED:20171010T190934Z
UID:5166-1510390800-1510430400@stair.ch
SUMMARY:SnakeHack
DESCRIPTION:Informatik-Fans aufgepasst! \nAm diesjährigen Hack-Event programmieren wir einen Samstag lang Snake Bots und lassen diese gegeneinander antreten. \nAlles\, was ihr dazu benötigt\, sind grundlegende Programmierkenntnisse. Wenn du weisst\, was ein If und ein While Statement ist\, dann bist du bei uns schon genau richtig. \nMelde dich unter https://snakehack.stair.ch/ an und erkämpfe dir Ruhm und Ehre 🙂 \nWie letztes Jahr ist auch für Verpflegung gesorgt.
URL:https://stair.ch/event/snakehack/
LOCATION:Campus Rotkreuz\, Campus Zug\, Suurstoffi 1\, Rotkreuz ZG\, 6343\, Schweiz
CATEGORIES:Hackathon
ATTACH;FMTTYPE=image/jpeg:https://stair.ch/wp-content/uploads/2017/10/snakehackflyer.jpg
ORGANIZER;CN="STAIR":MAILTO:info@stair.ch
END:VEVENT
END:VCALENDAR