BEGIN:VCALENDAR
VERSION:2.0
PRODID:-//STAIR - ECPv6.15.17.1//NONSGML v1.0//EN
CALSCALE:GREGORIAN
METHOD:PUBLISH
X-WR-CALNAME:STAIR
X-ORIGINAL-URL:https://stair.ch
X-WR-CALDESC:Veranstaltungen für STAIR
REFRESH-INTERVAL;VALUE=DURATION:PT1H
X-Robots-Tag:noindex
X-PUBLISHED-TTL:PT1H
BEGIN:VTIMEZONE
TZID:Europe/Berlin
BEGIN:DAYLIGHT
TZOFFSETFROM:+0100
TZOFFSETTO:+0200
TZNAME:CEST
DTSTART:20250330T010000
END:DAYLIGHT
BEGIN:STANDARD
TZOFFSETFROM:+0200
TZOFFSETTO:+0100
TZNAME:CET
DTSTART:20251026T010000
END:STANDARD
BEGIN:DAYLIGHT
TZOFFSETFROM:+0100
TZOFFSETTO:+0200
TZNAME:CEST
DTSTART:20260329T010000
END:DAYLIGHT
BEGIN:STANDARD
TZOFFSETFROM:+0200
TZOFFSETTO:+0100
TZNAME:CET
DTSTART:20261025T010000
END:STANDARD
BEGIN:DAYLIGHT
TZOFFSETFROM:+0100
TZOFFSETTO:+0200
TZNAME:CEST
DTSTART:20270328T010000
END:DAYLIGHT
BEGIN:STANDARD
TZOFFSETFROM:+0200
TZOFFSETTO:+0100
TZNAME:CET
DTSTART:20271031T010000
END:STANDARD
END:VTIMEZONE
BEGIN:VEVENT
DTSTART;VALUE=DATE:20260307
DTEND;VALUE=DATE:20260308
DTSTAMP:20260422T034033
CREATED:20260205T184848Z
LAST-MODIFIED:20260227T172848Z
UID:15767-1772841600-1772927999@stair.ch
SUMMARY:[Cancelled] Snow Sports Day
DESCRIPTION:⛔ Due to the unpredictable weather and avalanche situation\, we have decided to cancel Snow Sports Day and use our resources to improve our other events. ⛔ \n🏔️ Experience the thrill of a snow sports day in Morschach(Stoos) with us! 🏔️ \nWe’re offering a 🚌 bus ride directly from Rotkreuz\, a 🥘 delicious  lunch\, and endless fun on the slopes with ⛷️ skiing\, 🏂 snowboarding and 🛷 sleeding.\n❄️ Don’t miss out on this winter adventure! ❄️\nSchedule March 7\, 2026\n08:00  Departure from Rotkreuz\, Surstoffi\n09:00  Approx. arrival at Stoos valley station\n12:45  Lunch at Restaurant Fronalpstock\n16:00  Departure from Morschach\, Stoos valley station\n16:45  Approx. arrival back in Rotkreuz\nRental Information\n🛷 Sledge/Airboard rental  in ticket price included
URL:https://stair.ch/event/snow-sports-day-fs26/
LOCATION:Stoos\, Stoos\, Schwyz\, 6433\, Switzerland
ORGANIZER;CN="STAIR":MAILTO:info@stair.ch
END:VEVENT
END:VCALENDAR