BEGIN:VCALENDAR
VERSION:2.0
PRODID:-//STAIR - ECPv6.15.17.1//NONSGML v1.0//EN
CALSCALE:GREGORIAN
METHOD:PUBLISH
X-WR-CALNAME:STAIR
X-ORIGINAL-URL:https://stair.ch
X-WR-CALDESC:Veranstaltungen für STAIR
REFRESH-INTERVAL;VALUE=DURATION:PT1H
X-Robots-Tag:noindex
X-PUBLISHED-TTL:PT1H
BEGIN:VTIMEZONE
TZID:Europe/Berlin
BEGIN:DAYLIGHT
TZOFFSETFROM:+0100
TZOFFSETTO:+0200
TZNAME:CEST
DTSTART:20160327T010000
END:DAYLIGHT
BEGIN:STANDARD
TZOFFSETFROM:+0200
TZOFFSETTO:+0100
TZNAME:CET
DTSTART:20161030T010000
END:STANDARD
BEGIN:DAYLIGHT
TZOFFSETFROM:+0100
TZOFFSETTO:+0200
TZNAME:CEST
DTSTART:20170326T010000
END:DAYLIGHT
BEGIN:STANDARD
TZOFFSETFROM:+0200
TZOFFSETTO:+0100
TZNAME:CET
DTSTART:20171029T010000
END:STANDARD
BEGIN:DAYLIGHT
TZOFFSETFROM:+0100
TZOFFSETTO:+0200
TZNAME:CEST
DTSTART:20180325T010000
END:DAYLIGHT
BEGIN:STANDARD
TZOFFSETFROM:+0200
TZOFFSETTO:+0100
TZNAME:CET
DTSTART:20181028T010000
END:STANDARD
END:VTIMEZONE
BEGIN:VEVENT
DTSTART;TZID=Europe/Berlin:20170317T153000
DTEND;TZID=Europe/Berlin:20170317T233000
DTSTAMP:20260420T102200
CREATED:20170303T123645Z
LAST-MODIFIED:20170303T152536Z
UID:4706-1489764600-1489793400@stair.ch
SUMMARY:St. Patrick's Day
DESCRIPTION:Zur Feier des St. Patrick’s Day holen wir den Grill aus dem Winterschlaf und offerieren euch gratis Bier. Ab 15.30 Uhr könnt ihr bei uns mit eurem Fleisch\, Tofu oder Gemüse auftauchen\, mit uns grillieren und zusammen auf das Wochenende anstossen. Der Grill wird vor der Suurstoffi S12 stehen. \n 
URL:https://stair.ch/event/st-patricks-day/
LOCATION:Campus Rotkreuz\, Campus Zug\, Suurstoffi 1\, Rotkreuz ZG\, 6343\, Schweiz
CATEGORIES:Party
ATTACH;FMTTYPE=image/jpeg:https://stair.ch/wp-content/uploads/2017/03/PaddysDayFlyer.jpg
ORGANIZER;CN="STAIR":MAILTO:info@stair.ch
END:VEVENT
END:VCALENDAR