BEGIN:VCALENDAR
VERSION:2.0
PRODID:-//STAIR - ECPv6.15.17.1//NONSGML v1.0//EN
CALSCALE:GREGORIAN
METHOD:PUBLISH
X-WR-CALNAME:STAIR
X-ORIGINAL-URL:https://stair.ch
X-WR-CALDESC:Veranstaltungen für STAIR
REFRESH-INTERVAL;VALUE=DURATION:PT1H
X-Robots-Tag:noindex
X-PUBLISHED-TTL:PT1H
BEGIN:VTIMEZONE
TZID:Europe/Berlin
BEGIN:DAYLIGHT
TZOFFSETFROM:+0100
TZOFFSETTO:+0200
TZNAME:CEST
DTSTART:20180325T010000
END:DAYLIGHT
BEGIN:STANDARD
TZOFFSETFROM:+0200
TZOFFSETTO:+0100
TZNAME:CET
DTSTART:20181028T010000
END:STANDARD
BEGIN:DAYLIGHT
TZOFFSETFROM:+0100
TZOFFSETTO:+0200
TZNAME:CEST
DTSTART:20190331T010000
END:DAYLIGHT
BEGIN:STANDARD
TZOFFSETFROM:+0200
TZOFFSETTO:+0100
TZNAME:CET
DTSTART:20191027T010000
END:STANDARD
BEGIN:DAYLIGHT
TZOFFSETFROM:+0100
TZOFFSETTO:+0200
TZNAME:CEST
DTSTART:20200329T010000
END:DAYLIGHT
BEGIN:STANDARD
TZOFFSETFROM:+0200
TZOFFSETTO:+0100
TZNAME:CET
DTSTART:20201025T010000
END:STANDARD
END:VTIMEZONE
BEGIN:VEVENT
DTSTART;TZID=Europe/Berlin:20190531T153000
DTEND;TZID=Europe/Berlin:20190601T020000
DTSTAMP:20260422T130507
CREATED:20190217T194923Z
LAST-MODIFIED:20190528T080148Z
UID:6681-1559316600-1559354400@stair.ch
SUMMARY:Summer Party FS'19
DESCRIPTION:Um das Semester auf dem provisorischen Campus zu beenden\, feiern wir noch ein letztes Mal vor dem S12\, mit Grill\, Bier und viel guter Laune. \nBis dann!
URL:https://stair.ch/event/summer-party-fs19/
LOCATION:Campus Rotkreuz\, Campus Zug\, Suurstoffi 1\, Rotkreuz ZG\, 6343\, Schweiz
CATEGORIES:Party
ATTACH;FMTTYPE=image/jpeg:https://stair.ch/wp-content/uploads/2019/02/WhatsApp-Image-2019-05-25-at-13.02.33.jpeg
ORGANIZER;CN="STAIR":MAILTO:info@stair.ch
END:VEVENT
END:VCALENDAR