BEGIN:VCALENDAR
VERSION:2.0
PRODID:-//STAIR - ECPv6.15.17.1//NONSGML v1.0//EN
CALSCALE:GREGORIAN
METHOD:PUBLISH
X-WR-CALNAME:STAIR
X-ORIGINAL-URL:https://stair.ch
X-WR-CALDESC:Veranstaltungen für STAIR
REFRESH-INTERVAL;VALUE=DURATION:PT1H
X-Robots-Tag:noindex
X-PUBLISHED-TTL:PT1H
BEGIN:VTIMEZONE
TZID:Europe/Berlin
BEGIN:DAYLIGHT
TZOFFSETFROM:+0100
TZOFFSETTO:+0200
TZNAME:CEST
DTSTART:20220327T010000
END:DAYLIGHT
BEGIN:STANDARD
TZOFFSETFROM:+0200
TZOFFSETTO:+0100
TZNAME:CET
DTSTART:20221030T010000
END:STANDARD
BEGIN:DAYLIGHT
TZOFFSETFROM:+0100
TZOFFSETTO:+0200
TZNAME:CEST
DTSTART:20230326T010000
END:DAYLIGHT
BEGIN:STANDARD
TZOFFSETFROM:+0200
TZOFFSETTO:+0100
TZNAME:CET
DTSTART:20231029T010000
END:STANDARD
BEGIN:DAYLIGHT
TZOFFSETFROM:+0100
TZOFFSETTO:+0200
TZNAME:CEST
DTSTART:20240331T010000
END:DAYLIGHT
BEGIN:STANDARD
TZOFFSETFROM:+0200
TZOFFSETTO:+0100
TZNAME:CET
DTSTART:20241027T010000
END:STANDARD
END:VTIMEZONE
BEGIN:VEVENT
DTSTART;TZID=Europe/Berlin:20230330T170000
DTEND;TZID=Europe/Berlin:20230330T210000
DTSTAMP:20260424T121624
CREATED:20230321T150241Z
LAST-MODIFIED:20230322T183747Z
UID:9955-1680195600-1680210000@stair.ch
SUMMARY:Töggeli Turnier FS2023
DESCRIPTION:English version below \nWenn du gerne Tischfussball spielst\, oder wie wir Schweizer sagen\, „töggelisch“\, dann wirst du dieses Event lieben. \nIn einem Turnier wirst du gegen andere antreten\, um den Besten zu finden. \nDas Turnier startet um 18:00. \nWenn du nicht der beste Töggeler bist\, kannst du auch beim Beer-Pong Turnier teilnehmen. \nUm teilzunehmen melde dich bitte über den Link hier an. \n\nIf you like to play table football\, or foosball as some people call it\, you’ll love this event. \nIn a tournament you will face others to find the greatest players. \nThe tournament begins at 18:00. \nIf you are not the best at table football\, you can also take part in the beer-pong tournament. \nTo take part\, please register here.
URL:https://stair.ch/event/toeggeli-turnier-fs2023/
LOCATION:Campus Rotkreuz\, S1\, Forum\, Suurstoffi 1\, Rotkreuz\, Zug\, 6343\, Schweiz
END:VEVENT
END:VCALENDAR