BEGIN:VCALENDAR
VERSION:2.0
PRODID:-//STAIR - ECPv6.15.17.1//NONSGML v1.0//EN
CALSCALE:GREGORIAN
METHOD:PUBLISH
X-WR-CALNAME:STAIR
X-ORIGINAL-URL:https://stair.ch
X-WR-CALDESC:Veranstaltungen für STAIR
REFRESH-INTERVAL;VALUE=DURATION:PT1H
X-Robots-Tag:noindex
X-PUBLISHED-TTL:PT1H
BEGIN:VTIMEZONE
TZID:Europe/Berlin
BEGIN:DAYLIGHT
TZOFFSETFROM:+0100
TZOFFSETTO:+0200
TZNAME:CEST
DTSTART:20250330T010000
END:DAYLIGHT
BEGIN:STANDARD
TZOFFSETFROM:+0200
TZOFFSETTO:+0100
TZNAME:CET
DTSTART:20251026T010000
END:STANDARD
BEGIN:DAYLIGHT
TZOFFSETFROM:+0100
TZOFFSETTO:+0200
TZNAME:CEST
DTSTART:20260329T010000
END:DAYLIGHT
BEGIN:STANDARD
TZOFFSETFROM:+0200
TZOFFSETTO:+0100
TZNAME:CET
DTSTART:20261025T010000
END:STANDARD
BEGIN:DAYLIGHT
TZOFFSETFROM:+0100
TZOFFSETTO:+0200
TZNAME:CEST
DTSTART:20270328T010000
END:DAYLIGHT
BEGIN:STANDARD
TZOFFSETFROM:+0200
TZOFFSETTO:+0100
TZNAME:CET
DTSTART:20271031T010000
END:STANDARD
END:VTIMEZONE
BEGIN:VEVENT
DTSTART;TZID=Europe/Berlin:20260326T180000
DTEND;TZID=Europe/Berlin:20260326T220000
DTSTAMP:20260420T051603
CREATED:20260205T184848Z
LAST-MODIFIED:20260317T164527Z
UID:15772-1774548000-1774562400@stair.ch
SUMMARY:Töggeliturnier
DESCRIPTION:On Thursday\, March 26th the time has come: the popular foosball tournament goes into the next round! Doors open at 6:00 PM\, and the first matches kick off at 6:30 PM! 🕖🔥  \nExperience thrilling matches\, exciting duels at the foosball table\, and lots of action\, fun & great vibes! 💥🙌  \nGreat atmosphere is guaranteed and of course\, we’ve got you covered with free drinks and snacks for everyone. 🍻🥨  \n👉 Spots are strictly limited\, so sign up quickly and secure your place at the table! 🚀🎯  \nRegister now
URL:https://stair.ch/event/toeggeliturnier-fs26/
LOCATION:Campus Rotkreuz\, S1\, Forum\, Suurstoffi 1\, Rotkreuz\, Zug\, 6343\, Schweiz
ORGANIZER;CN="STAIR":MAILTO:info@stair.ch
END:VEVENT
END:VCALENDAR