BEGIN:VCALENDAR
VERSION:2.0
PRODID:-//STAIR - ECPv6.15.17.1//NONSGML v1.0//EN
CALSCALE:GREGORIAN
METHOD:PUBLISH
X-WR-CALNAME:STAIR
X-ORIGINAL-URL:https://stair.ch
X-WR-CALDESC:Veranstaltungen für STAIR
REFRESH-INTERVAL;VALUE=DURATION:PT1H
X-Robots-Tag:noindex
X-PUBLISHED-TTL:PT1H
BEGIN:VTIMEZONE
TZID:Europe/Berlin
BEGIN:DAYLIGHT
TZOFFSETFROM:+0100
TZOFFSETTO:+0200
TZNAME:CEST
DTSTART:20220327T010000
END:DAYLIGHT
BEGIN:STANDARD
TZOFFSETFROM:+0200
TZOFFSETTO:+0100
TZNAME:CET
DTSTART:20221030T010000
END:STANDARD
BEGIN:DAYLIGHT
TZOFFSETFROM:+0100
TZOFFSETTO:+0200
TZNAME:CEST
DTSTART:20230326T010000
END:DAYLIGHT
BEGIN:STANDARD
TZOFFSETFROM:+0200
TZOFFSETTO:+0100
TZNAME:CET
DTSTART:20231029T010000
END:STANDARD
BEGIN:DAYLIGHT
TZOFFSETFROM:+0100
TZOFFSETTO:+0200
TZNAME:CEST
DTSTART:20240331T010000
END:DAYLIGHT
BEGIN:STANDARD
TZOFFSETFROM:+0200
TZOFFSETTO:+0100
TZNAME:CET
DTSTART:20241027T010000
END:STANDARD
END:VTIMEZONE
BEGIN:VEVENT
DTSTART;TZID=Europe/Berlin:20231130T180000
DTEND;TZID=Europe/Berlin:20231130T233000
DTSTAMP:20260423T094732
CREATED:20230914T070758Z
LAST-MODIFIED:20230914T070758Z
UID:10736-1701367200-1701387000@stair.ch
SUMMARY:Töggeliturnier HS23
DESCRIPTION:English version below \nWenn du gerne Tischfussball spielst\, oder wie wir Schweizer sagen\, „töggelisch“\, dann wirst du dieses Event lieben.\nIn einem Turnier wirst du gegen andere antreten\, um den Besten zu finden. Das Event findet mit STA vom Department Technik und Architektur in Horw statt.\nLasst uns herausfinden wer die besten sind. \nDas Turnier startet um 18:00 auf dem Kampus Technik und Architektur in Horw. \nAnmeldung folgt! \n\nIf you like to play table football\, or foosball as some people call it\, you’ll love this event.\nYou will compete against others in a tournament to find the best. The event will take place with STA from the Department of Engineering and Architecture in Horw.\nLet’s find out who the best are. \nThe tournament starts at 18:00 at the Campus Technology and Architecture in Horw. \nRegistration follows!
URL:https://stair.ch/event/toeggeliturnier-hs23/
LOCATION:Hochschule Luzern – Technik & Architektur\, Technikumstrasse 21\, Horw\, Luzern\, 6048\, Schweiz
ORGANIZER;CN="STAIR":MAILTO:info@stair.ch
END:VEVENT
END:VCALENDAR