BEGIN:VCALENDAR
VERSION:2.0
PRODID:-//STAIR - ECPv6.15.17.1//NONSGML v1.0//EN
CALSCALE:GREGORIAN
METHOD:PUBLISH
X-WR-CALNAME:STAIR
X-ORIGINAL-URL:https://stair.ch
X-WR-CALDESC:Veranstaltungen für STAIR
REFRESH-INTERVAL;VALUE=DURATION:PT1H
X-Robots-Tag:noindex
X-PUBLISHED-TTL:PT1H
BEGIN:VTIMEZONE
TZID:Europe/Berlin
BEGIN:DAYLIGHT
TZOFFSETFROM:+0100
TZOFFSETTO:+0200
TZNAME:CEST
DTSTART:20220327T010000
END:DAYLIGHT
BEGIN:STANDARD
TZOFFSETFROM:+0200
TZOFFSETTO:+0100
TZNAME:CET
DTSTART:20221030T010000
END:STANDARD
BEGIN:DAYLIGHT
TZOFFSETFROM:+0100
TZOFFSETTO:+0200
TZNAME:CEST
DTSTART:20230326T010000
END:DAYLIGHT
BEGIN:STANDARD
TZOFFSETFROM:+0200
TZOFFSETTO:+0100
TZNAME:CET
DTSTART:20231029T010000
END:STANDARD
BEGIN:DAYLIGHT
TZOFFSETFROM:+0100
TZOFFSETTO:+0200
TZNAME:CEST
DTSTART:20240331T010000
END:DAYLIGHT
BEGIN:STANDARD
TZOFFSETFROM:+0200
TZOFFSETTO:+0100
TZNAME:CET
DTSTART:20241027T010000
END:STANDARD
END:VTIMEZONE
BEGIN:VEVENT
DTSTART;TZID=Europe/Berlin:20230601T180000
DTEND;TZID=Europe/Berlin:20230601T220000
DTSTAMP:20260423T132758
CREATED:20230319T223847Z
LAST-MODIFIED:20230319T223847Z
UID:9945-1685642400-1685656800@stair.ch
SUMMARY:Wine Tasting FS2023
DESCRIPTION:English version below \nWenn du gerne Wein trinkst\, solltest du diesen Event definitiv besuchen.\nDa die Plätze limitiert sind\, ist eine Anmeldung erforderlich.\nEr findet im Mövenpick in Rotkreuz statt. \nDie Anmeldung wird bald hier aufgeschalten. \n\nIf you like drinking wine\, you should definitely attend this event.\nSince the spots are limited\, a registration is required.\nIt’ll take place at Mövenpick in Rotkreuz. \nThe registration will start soon.
URL:https://stair.ch/event/wine-tasting-fs2023/
LOCATION:Mövenpick Rotkreuz\, Grundstrasse 14\, Risch-Rotkreuz\, Zug\, 6343\, Schweiz
END:VEVENT
END:VCALENDAR