BEGIN:VCALENDAR
VERSION:2.0
PRODID:-//STAIR - ECPv6.15.17.1//NONSGML v1.0//EN
CALSCALE:GREGORIAN
METHOD:PUBLISH
X-WR-CALNAME:STAIR
X-ORIGINAL-URL:https://stair.ch
X-WR-CALDESC:Veranstaltungen für STAIR
REFRESH-INTERVAL;VALUE=DURATION:PT1H
X-Robots-Tag:noindex
X-PUBLISHED-TTL:PT1H
BEGIN:VTIMEZONE
TZID:Europe/Berlin
BEGIN:DAYLIGHT
TZOFFSETFROM:+0100
TZOFFSETTO:+0200
TZNAME:CEST
DTSTART:20250330T010000
END:DAYLIGHT
BEGIN:STANDARD
TZOFFSETFROM:+0200
TZOFFSETTO:+0100
TZNAME:CET
DTSTART:20251026T010000
END:STANDARD
BEGIN:DAYLIGHT
TZOFFSETFROM:+0100
TZOFFSETTO:+0200
TZNAME:CEST
DTSTART:20260329T010000
END:DAYLIGHT
BEGIN:STANDARD
TZOFFSETFROM:+0200
TZOFFSETTO:+0100
TZNAME:CET
DTSTART:20261025T010000
END:STANDARD
BEGIN:DAYLIGHT
TZOFFSETFROM:+0100
TZOFFSETTO:+0200
TZNAME:CEST
DTSTART:20270328T010000
END:DAYLIGHT
BEGIN:STANDARD
TZOFFSETFROM:+0200
TZOFFSETTO:+0100
TZNAME:CET
DTSTART:20271031T010000
END:STANDARD
END:VTIMEZONE
BEGIN:VEVENT
DTSTART;TZID=Europe/Berlin:20260425T091500
DTEND;TZID=Europe/Berlin:20260425T160000
DTSTAMP:20260418T143751
CREATED:20260205T184847Z
LAST-MODIFIED:20260411T102619Z
UID:15778-1777108500-1777132800@stair.ch
SUMMARY:Hike & Beer
DESCRIPTION:Hike across the Rigi with us ⛰️ Trade classroom stress for mountain air. We start in Rotkreuz and tackle the 7 km route together. \nWe provide snacks 🥪\, drinks 🥤\, and beer 🍻 on the way. Grill your self-brought lunch at the prepared fire pit. \nRegister with your friends. Experience a special day in nature 🏞️ \n🎟️ Spots are limited\, so don’t wait — secure your spot before they’re gone! \n📍 09:15 Rotkreuz Station Platform 6\n🚆 09:27 Departure Rotkreuz Station Platform 6\n🕒 4 to 5 hours including breaks \nRegister now
URL:https://stair.ch/event/hike-beer-fs26/
LOCATION:Rigi\, Rigi\, 6410\, Switzerland
ORGANIZER;CN="STAIR":MAILTO:info@stair.ch
END:VEVENT
BEGIN:VEVENT
DTSTART;TZID=Europe/Berlin:20260509T180000
DTEND;TZID=Europe/Berlin:20260510T040000
DTSTAMP:20260418T143751
CREATED:20260205T184847Z
LAST-MODIFIED:20260418T123634Z
UID:15781-1778349600-1778385600@stair.ch
SUMMARY:OneHSLU Fest
DESCRIPTION:On May 9\, 2026\, the legendary OneHSLU Fest returns to Südpol. Mark your calendars – a night full of music\, dancing\, and good vibes awaits! \n\n  \n\nBrought to you by every student association from HSLU:\nFRAME\, STA\, STAIR\, STUDIRAT\, STUVE\, VESTA \nExpect a packed program from 6:00 PM to 4:00 AM: catch the jam sessions\, get crafty at the creative table\, or dominate the beer pong tournament — then hit the two floors and dance all night to our DJs! \nDJs:\nAlex Clyde\, Fr3ck3r& Ravez\, Kyrox & Lux\, Simon Miles and Yoyo \n🎟 Tickets: \n👉 Early Bird: (sold out)\n👉 Presale: 9 CHF \n\nTicket\nBeerpong Sign Up\n\nDon’t miss out on the biggest HSLU student party of the year!
URL:https://stair.ch/event/onehslu-fest-26/
LOCATION:Südpol\, Arsenalstrasse 28\, Kriens\, Luzern\, 6010
END:VEVENT
BEGIN:VEVENT
DTSTART;TZID=Europe/Berlin:20260529T150000
DTEND;TZID=Europe/Berlin:20260529T220000
DTSTAMP:20260418T143751
CREATED:20260205T184847Z
LAST-MODIFIED:20260205T184847Z
UID:15783-1780066800-1780092000@stair.ch
SUMMARY:Summer Party
DESCRIPTION:☀️😎 Every day brings us closer to summer – the end of the semester and our summer party! 😎☀️ \n📅 When: Friday\, May 29\, 2026\n📍 Where: Docker Bar\, Rotkreuz\n🕒 Starting at: 3:00 PM \n🌴 Take a break from uni stress and enjoy the day with:\n🍻 Unlimited beer\n👾 Fun games\n🌭 Free food \n🌵 Come with your friends\, we’re excited to see you!
URL:https://stair.ch/event/summer-party-fs26/
LOCATION:Campus Rotkreuz\, Docker Bar\, Campus Zug\, Suurstoffi 1\, Rotkreuz\, Zug\, 6343\, Schweiz
ORGANIZER;CN="STAIR":MAILTO:info@stair.ch
END:VEVENT
BEGIN:VEVENT
DTSTART;TZID=Europe/Berlin:20260704T220000
DTEND;TZID=Europe/Berlin:20260705T040000
DTSTAMP:20260418T143751
CREATED:20260205T184847Z
LAST-MODIFIED:20260205T184847Z
UID:15785-1783202400-1783224000@stair.ch
SUMMARY:Semester End Party
DESCRIPTION:🥳 The exam period is soon over! Celebrate the end of the semester with us! 🪩 \n🍻 Toast to a successful exam with your friends or drink away your sorrows with your friends. 🍻 \n📅 Saturday\, 4 July\n🕛 22:00 – 04:00
URL:https://stair.ch/event/semester-end-party-fs26/
LOCATION:Luzern
ORGANIZER;CN="STAIR":MAILTO:info@stair.ch
END:VEVENT
END:VCALENDAR